BEGIN:VCALENDAR
VERSION:2.0
PRODID:-//103.209.24.100//NONSGML kigkonsult.se iCalcreator 2.26.9//
CALSCALE:GREGORIAN
METHOD:PUBLISH
X-WR-CALNAME:Mill Park Secondary College
X-WR-CALDESC:
X-FROM-URL:https://www.millparksc.vic.edu.au
X-WR-TIMEZONE:Australia/Melbourne
BEGIN:VTIMEZONE
TZID:Australia/Melbourne
X-LIC-LOCATION:Australia/Melbourne
BEGIN:STANDARD
DTSTART:20200405T030000
TZOFFSETFROM:+1100
TZOFFSETTO:+1000
RDATE:20210404T030000
TZNAME:AEST
END:STANDARD
BEGIN:DAYLIGHT
DTSTART:20191006T020000
TZOFFSETFROM:+1000
TZOFFSETTO:+1100
RDATE:20201004T020000
TZNAME:AEDT
END:DAYLIGHT
END:VTIMEZONE
BEGIN:VEVENT
UID:ai1ec-3539@www.millparksc.vic.edu.au
DTSTAMP:20200229T175923Z
CATEGORIES:
CONTACT:
DESCRIPTION:
DTSTART;VALUE=DATE:20200207
DTEND;VALUE=DATE:20200208
SEQUENCE:0
SUMMARY:School Photos (Senior Campus)
URL:https://www.millparksc.vic.edu.au/event/school-photos-senior-campus/
X-COST-TYPE:free
END:VEVENT
END:VCALENDAR
